BEGIN:VCALENDAR
VERSION:2.0
PRODID:-//Alberta Mycological Society - ECPv6.15.20//NONSGML v1.0//EN
CALSCALE:GREGORIAN
METHOD:PUBLISH
X-ORIGINAL-URL:https://www.albertamushrooms.ca
X-WR-CALDESC:Events for Alberta Mycological Society
REFRESH-INTERVAL;VALUE=DURATION:PT1H
X-Robots-Tag:noindex
X-PUBLISHED-TTL:PT1H
BEGIN:VTIMEZONE
TZID:America/Edmonton
BEGIN:DAYLIGHT
TZOFFSETFROM:-0700
TZOFFSETTO:-0600
TZNAME:MDT
DTSTART:20220313T090000
END:DAYLIGHT
BEGIN:STANDARD
TZOFFSETFROM:-0600
TZOFFSETTO:-0700
TZNAME:MST
DTSTART:20221106T080000
END:STANDARD
BEGIN:DAYLIGHT
TZOFFSETFROM:-0700
TZOFFSETTO:-0600
TZNAME:MDT
DTSTART:20230312T090000
END:DAYLIGHT
BEGIN:STANDARD
TZOFFSETFROM:-0600
TZOFFSETTO:-0700
TZNAME:MST
DTSTART:20231105T080000
END:STANDARD
BEGIN:DAYLIGHT
TZOFFSETFROM:-0700
TZOFFSETTO:-0600
TZNAME:MDT
DTSTART:20240310T090000
END:DAYLIGHT
BEGIN:STANDARD
TZOFFSETFROM:-0600
TZOFFSETTO:-0700
TZNAME:MST
DTSTART:20241103T080000
END:STANDARD
END:VTIMEZONE
BEGIN:VEVENT
DTSTART;TZID=America/Edmonton:20230520T100000
DTEND;TZID=America/Edmonton:20230521T150000
DTSTAMP:20260425T062701
CREATED:20230510T172943Z
LAST-MODIFIED:20230510T172943Z
UID:27352-1684576800-1684681200@www.albertamushrooms.ca
SUMMARY:Morel Foray near Entwistle\, AB
DESCRIPTION:Leaders: Enoki Li / Joshua Key / Chris Peet / Cassandra McKenna\nDate:  Saturday\, May 20 –  Sunday\, May 21\nTime: Sat. 10:00 AM – 6:00 PM / Sun. 10:00 AM – 3:00 PM \nLocation:54404\, Range Road 65 Gainford\, AB T0E 0W0 \nDetails:  Weekend morel foray in near Entwistle\, AB. This foray will be held on a campsite. Amenities include: camping space\, water\, latrines\, composting\, garbage disposal\, fireplace with wood. The weekend foray will include mushroom identification. There will also be an astronomy event held after 10:00 PM on Saturday for those who are interested. More details will be provided after registration. \nFee: 1 AMS member = $30/spot\n+1 adult (18+) = $20/spot\n+1 child (4+)/ senior (65+) = $15/spot\n(Children up to three years old are free) \nRegistration:  Email Enoki Li: hyl@ualberta.ca \nPlease read and familiarize yourself with the AMS Foray guidelines.
URL:https://www.albertamushrooms.ca/event/morel-foray-near-entwistle-ab/
CATEGORIES:Members-Only Events,Forays
END:VEVENT
BEGIN:VEVENT
DTSTART;TZID=America/Edmonton:20230521T100000
DTEND;TZID=America/Edmonton:20230521T150000
DTSTAMP:20260425T062701
CREATED:20230510T213355Z
LAST-MODIFIED:20230511T235548Z
UID:27373-1684663200-1684681200@www.albertamushrooms.ca
SUMMARY:Edmonton Area Spring Mushroom Forays
DESCRIPTION:Leaders: Karen Slevinsky / Elizabeth Lakeman / Rosemarie O’Bertos\nDate:  Sunday\, May 21\, 2023\nTime: 10 AM – 12:30 PM / 1:30 – 3:00 PM \nLocation:  21246 Highway 14\, Sherwood Park AB T8G 1G1 This is the former site of the Ministic School. There is no school now; only a parking area and                                        playground. \nOther Details:  Paid members only event. No pre-registration required.  \nPlease read and familiarize yourself with the AMS Foray guidelines.
URL:https://www.albertamushrooms.ca/event/edmonton-area-spring-mushroom-forays-tentative/
CATEGORIES:Members-Only Events,Forays
END:VEVENT
BEGIN:VEVENT
DTSTART;TZID=America/Edmonton:20230527T110000
DTEND;TZID=America/Edmonton:20230527T140000
DTSTAMP:20260425T062701
CREATED:20230205T142534Z
LAST-MODIFIED:20230519T183852Z
UID:26018-1685185200-1685196000@www.albertamushrooms.ca
SUMMARY:Southern AB Spring Mushroom Foray
DESCRIPTION:This foray is scheduled. Changes / cancellation may occur if weather and/or foraging conditions are foul.\n\nLeader(s) TBD: Sean Campbell / Christine Costello / Barb Shworak\nDate (TBD):  Saturday\, May 27\, 2023\nTime (TBD): 11 AM – 2 PM \nLocation (TBD): Calgary Region / Southern AB \nOther Details:  Paid members only event. No pre-registration required. An email will be sent regarding exact meeting time and location once the foray details are decided (usually 1 week prior to event).  \nPlease read and familiarize yourself with the AMS Foray guidelines.
URL:https://www.albertamushrooms.ca/event/southern-ab-spring-mushroom-foray/
CATEGORIES:Members-Only Events,Forays
END:VEVENT
BEGIN:VEVENT
DTSTART;TZID=America/Edmonton:20230528T100000
DTEND;TZID=America/Edmonton:20230528T150000
DTSTAMP:20260425T062701
CREATED:20230524T213009Z
LAST-MODIFIED:20230524T213009Z
UID:27597-1685268000-1685286000@www.albertamushrooms.ca
SUMMARY:Breton Area Forays (3 total)
DESCRIPTION:Not one\, or two\, but three forays in the Breton area! With recent rain\, conditions are good for spring mushrooms. Survey & forage our Stewardship land with Mel & Enoki\, or take a tour of Pieter van der Schoot’s private property with Elizabeth & Rosemarie.\n\nLeaders: Mel Hohn\, Enoki Li\, Elizabeth Lakeman\, Rosemarie O’Bertos\nDate:  Sunday\, May 28\, 2023\nTime: \n\nStewardship Foray #1: 10 AM – 12:30 PM\nVan der Schoot Foray: 10 AM – 1 PM\nStewardship Foray #2:  1 PM – 2:30 PM\n\nLocation : Breton Area \nSign up: Email Mel at MelCHohn@gmail.com with your preferred foray time and your full name. If your preferred foray time is unavailable\, you will be notified and provided the option to attend the other forays on the 28th (space permitting). \nOther Details: Max of 30 participants per foray (active members only). Please limit your attendance to one foray to allow others to participate! More information will be sent by email before Friday evening. \nPlease read and familiarize yourself with the AMS Foray guidelines.
URL:https://www.albertamushrooms.ca/event/breton-area-forays-3-total/
LOCATION:Breton Area
CATEGORIES:Members-Only Events,Forays
END:VEVENT
END:VCALENDAR