BEGIN:VCALENDAR
VERSION:2.0
PRODID:-//Alberta Mycological Society - ECPv6.15.20//NONSGML v1.0//EN
CALSCALE:GREGORIAN
METHOD:PUBLISH
X-WR-CALNAME:Alberta Mycological Society
X-ORIGINAL-URL:https://www.albertamushrooms.ca
X-WR-CALDESC:Events for Alberta Mycological Society
REFRESH-INTERVAL;VALUE=DURATION:PT1H
X-Robots-Tag:noindex
X-PUBLISHED-TTL:PT1H
BEGIN:VTIMEZONE
TZID:America/Edmonton
BEGIN:DAYLIGHT
TZOFFSETFROM:-0700
TZOFFSETTO:-0600
TZNAME:MDT
DTSTART:20240310T090000
END:DAYLIGHT
BEGIN:STANDARD
TZOFFSETFROM:-0600
TZOFFSETTO:-0700
TZNAME:MST
DTSTART:20241103T080000
END:STANDARD
BEGIN:DAYLIGHT
TZOFFSETFROM:-0700
TZOFFSETTO:-0600
TZNAME:MDT
DTSTART:20250309T090000
END:DAYLIGHT
BEGIN:STANDARD
TZOFFSETFROM:-0600
TZOFFSETTO:-0700
TZNAME:MST
DTSTART:20251102T080000
END:STANDARD
BEGIN:DAYLIGHT
TZOFFSETFROM:-0700
TZOFFSETTO:-0600
TZNAME:MDT
DTSTART:20260308T090000
END:DAYLIGHT
BEGIN:STANDARD
TZOFFSETFROM:-0600
TZOFFSETTO:-0700
TZNAME:MST
DTSTART:20261101T080000
END:STANDARD
END:VTIMEZONE
BEGIN:VEVENT
DTSTART;TZID=America/Edmonton:20250720T100000
DTEND;TZID=America/Edmonton:20250720T120000
DTSTAMP:20260423T223800
CREATED:20250222T185627Z
LAST-MODIFIED:20250703T170302Z
UID:105232-1753005600-1753012800@www.albertamushrooms.ca
SUMMARY:Red Deer - Community Foray
DESCRIPTION:Leader(s): Lori-Anne Leger\, Taylor Routledge \nDate:  July 20\, 2025 \nTime: 10:00AM – 12:00PM \nLocation:  Red Deer \nDetails: Lori-Anne will discuss toxicity/dog safety while leading the foray.  We will be in an unfenced park with other dogs. Moose have been spotted in the area. \nDogs: Dogs with good social & recall skills are welcome. \nOther details: Members-only event. Details regarding the location will be emailed to members up to 1 week prior. \nPlease read and familiarize yourself with the AMS Foray guidelines. \n\n\n🍄 Community Foray 🍄\nThis foray is only possible because of one of your fellow members!\nThe best way to say “Thank You” is to lead your own foray for members. \nIf you are interested in leading a foray in your community\, click the button link below. \n \n🍄 🍄 🍄 🍄 🍄 🍄
URL:https://www.albertamushrooms.ca/event/red-deer-community-foray/
CATEGORIES:Forays
ATTACH;FMTTYPE=image/jpeg:https://www.albertamushrooms.ca/wp-content/uploads/2025/02/Community-Mushroom-Foray-3.jpg
END:VEVENT
BEGIN:VEVENT
DTSTART;TZID=America/Edmonton:20250720T100000
DTEND;TZID=America/Edmonton:20250720T170000
DTSTAMP:20260423T223801
CREATED:20250614T182803Z
LAST-MODIFIED:20250614T183639Z
UID:151054-1753005600-1753030800@www.albertamushrooms.ca
SUMMARY:Mush Love Art Exhibition & Market Event
DESCRIPTION:SUNDAY\, JULY 20th \n\nMush Love Market Event ( Free Event )\nJoin us for a mush lovin’ day of fabulous\, family-friendly fun in the sun! The Mush Love Arts exhibit will be open all day\, alongside our very special mushroom-inspired market in the Nvrlnd outer courtyard and parking area. From handmade arts and crafts to locally crafted mushroom tinctures & delicious food truck treats\, there’s a treasure waiting for everyone! The Mush Love Art Exhibition & Market is completely free and everyone is welcome to come down and help us celebrate all things mushroom! \nWe have tripled our footprint for this year’s festivities\, so that means even more artisans\, interactions\, performances\, chill spaces to hang out and even a dedicated dance floor for those looking to shake their hips to some of the incredible live music we have lined up!
URL:https://www.albertamushrooms.ca/event/mush-love-art-exhibition-market-event-2/
LOCATION:NVRLAND. Arts Foundation\, 1048 21 Ave SE\, Calgary\, Alberta\, T2G 1N2\, Canada
ATTACH;FMTTYPE=image/png:https://www.albertamushrooms.ca/wp-content/uploads/2025/06/Screenshot-2025-06-14-at-12.35.54 PM.png
ORGANIZER;CN="Mush Love":MAILTO:jai@mushlovearts.com
END:VEVENT
END:VCALENDAR