BEGIN:VCALENDAR
VERSION:2.0
PRODID:-//Alberta Mycological Society - ECPv6.15.20//NONSGML v1.0//EN
CALSCALE:GREGORIAN
METHOD:PUBLISH
X-WR-CALNAME:Alberta Mycological Society
X-ORIGINAL-URL:https://www.albertamushrooms.ca
X-WR-CALDESC:Events for Alberta Mycological Society
REFRESH-INTERVAL;VALUE=DURATION:PT1H
X-Robots-Tag:noindex
X-PUBLISHED-TTL:PT1H
BEGIN:VTIMEZONE
TZID:America/Edmonton
BEGIN:DAYLIGHT
TZOFFSETFROM:-0700
TZOFFSETTO:-0600
TZNAME:MDT
DTSTART:20240310T090000
END:DAYLIGHT
BEGIN:STANDARD
TZOFFSETFROM:-0600
TZOFFSETTO:-0700
TZNAME:MST
DTSTART:20241103T080000
END:STANDARD
BEGIN:DAYLIGHT
TZOFFSETFROM:-0700
TZOFFSETTO:-0600
TZNAME:MDT
DTSTART:20250309T090000
END:DAYLIGHT
BEGIN:STANDARD
TZOFFSETFROM:-0600
TZOFFSETTO:-0700
TZNAME:MST
DTSTART:20251102T080000
END:STANDARD
BEGIN:DAYLIGHT
TZOFFSETFROM:-0700
TZOFFSETTO:-0600
TZNAME:MDT
DTSTART:20260308T090000
END:DAYLIGHT
BEGIN:STANDARD
TZOFFSETFROM:-0600
TZOFFSETTO:-0700
TZNAME:MST
DTSTART:20261101T080000
END:STANDARD
END:VTIMEZONE
BEGIN:VEVENT
DTSTART;TZID=America/Edmonton:20250715T190000
DTEND;TZID=America/Edmonton:20250715T203000
DTSTAMP:20260423T150736
CREATED:20250712T024806Z
LAST-MODIFIED:20250714T022243Z
UID:166887-1752606000-1752611400@www.albertamushrooms.ca
SUMMARY:Carbon Flux of Life with Dr. Cindy Prescott
DESCRIPTION:Dr. Cindy PrescottUBC Forestry Professor Did you know that more than half of the biodiversity in forests lives below ground and that organisms residing beneath the forest floor depend on fluxes of carbon produced by living trees? \nJoin UBC Forestry professor Dr. Cindy Prescott as she explores how surplus sugars\, exuded from trees\, nourish this underground world and how we can apply this knowledge to support all soil life within harvested areas.
URL:https://www.albertamushrooms.ca/event/carbon-flux-of-life/
ATTACH;FMTTYPE=image/png:https://www.albertamushrooms.ca/wp-content/uploads/2025/07/Carbon-Flux-of-Life-Webinar-Instagram-Post-45.png
END:VEVENT
END:VCALENDAR