BEGIN:VCALENDAR
VERSION:2.0
PRODID:-//Alberta Mycological Society - ECPv6.15.20//NONSGML v1.0//EN
CALSCALE:GREGORIAN
METHOD:PUBLISH
X-WR-CALNAME:Alberta Mycological Society
X-ORIGINAL-URL:https://www.albertamushrooms.ca
X-WR-CALDESC:Events for Alberta Mycological Society
REFRESH-INTERVAL;VALUE=DURATION:PT1H
X-Robots-Tag:noindex
X-PUBLISHED-TTL:PT1H
BEGIN:VTIMEZONE
TZID:America/Edmonton
BEGIN:DAYLIGHT
TZOFFSETFROM:-0700
TZOFFSETTO:-0600
TZNAME:MDT
DTSTART:20240310T090000
END:DAYLIGHT
BEGIN:STANDARD
TZOFFSETFROM:-0600
TZOFFSETTO:-0700
TZNAME:MST
DTSTART:20241103T080000
END:STANDARD
BEGIN:DAYLIGHT
TZOFFSETFROM:-0700
TZOFFSETTO:-0600
TZNAME:MDT
DTSTART:20250309T090000
END:DAYLIGHT
BEGIN:STANDARD
TZOFFSETFROM:-0600
TZOFFSETTO:-0700
TZNAME:MST
DTSTART:20251102T080000
END:STANDARD
BEGIN:DAYLIGHT
TZOFFSETFROM:-0700
TZOFFSETTO:-0600
TZNAME:MDT
DTSTART:20260308T090000
END:DAYLIGHT
BEGIN:STANDARD
TZOFFSETFROM:-0600
TZOFFSETTO:-0700
TZNAME:MST
DTSTART:20261101T080000
END:STANDARD
END:VTIMEZONE
BEGIN:VEVENT
DTSTART;TZID=America/Edmonton:20250514T190000
DTEND;TZID=America/Edmonton:20250514T210000
DTSTAMP:20260423T224301
CREATED:20250507T205927Z
LAST-MODIFIED:20250507T211843Z
UID:130677-1747249200-1747256400@www.albertamushrooms.ca
SUMMARY:Poisonous edible mushrooms: Questions\, Concerns\, Safety\, Tips and Discussions
DESCRIPTION:Culinary team start up lead Martin Osis. Most mushroom poisonings in North America happen with well known and choice edible mushrooms. About 5 % of all knowledgeable mushrooms have experienced an incident. We will discuss how this can happen and the methods and techniques so you can avoid any incidents at your home. \nThe AMS is launching a Culinary Team. This is all about edible mushrooms and including them in as many AMS events as possible. Are you a Foodie? Do you want to participate\, learn and expand your culinary skills and know how? Join in for the presentation on mushroom preparation protocols and the discussion about what we are planning and how you can be a part of it. \nRegister Now
URL:https://www.albertamushrooms.ca/event/poisonous-edible-mushrooms-questions-concerns-safety-tips-and-discussions-with-ams-culinary-team/
ATTACH;FMTTYPE=image/png:https://www.albertamushrooms.ca/wp-content/uploads/2025/05/Poisonous-edible-mushrooms-Questions-Concerns-Safety-Tips-and-Discussions-With-AMS-Culinary-Team.png
END:VEVENT
END:VCALENDAR