BEGIN:VCALENDAR
VERSION:2.0
PRODID:-//Alberta Mycological Society - ECPv6.15.20//NONSGML v1.0//EN
CALSCALE:GREGORIAN
METHOD:PUBLISH
X-ORIGINAL-URL:https://www.albertamushrooms.ca
X-WR-CALDESC:Events for Alberta Mycological Society
REFRESH-INTERVAL;VALUE=DURATION:PT1H
X-Robots-Tag:noindex
X-PUBLISHED-TTL:PT1H
BEGIN:VTIMEZONE
TZID:America/Edmonton
BEGIN:DAYLIGHT
TZOFFSETFROM:-0700
TZOFFSETTO:-0600
TZNAME:MDT
DTSTART:20230312T090000
END:DAYLIGHT
BEGIN:STANDARD
TZOFFSETFROM:-0600
TZOFFSETTO:-0700
TZNAME:MST
DTSTART:20231105T080000
END:STANDARD
BEGIN:DAYLIGHT
TZOFFSETFROM:-0700
TZOFFSETTO:-0600
TZNAME:MDT
DTSTART:20240310T090000
END:DAYLIGHT
BEGIN:STANDARD
TZOFFSETFROM:-0600
TZOFFSETTO:-0700
TZNAME:MST
DTSTART:20241103T080000
END:STANDARD
BEGIN:DAYLIGHT
TZOFFSETFROM:-0700
TZOFFSETTO:-0600
TZNAME:MDT
DTSTART:20250309T090000
END:DAYLIGHT
BEGIN:STANDARD
TZOFFSETFROM:-0600
TZOFFSETTO:-0700
TZNAME:MST
DTSTART:20251102T080000
END:STANDARD
END:VTIMEZONE
BEGIN:VEVENT
DTSTART;TZID=America/Edmonton:20240615T100000
DTEND;TZID=America/Edmonton:20240615T150000
DTSTAMP:20260423T134647
CREATED:20240611T235055Z
LAST-MODIFIED:20240611T235230Z
UID:58166-1718445600-1718463600@www.albertamushrooms.ca
SUMMARY:Surprise Lake Camp - Foray & Blanket Ceremony - June 15\, 2024
DESCRIPTION:Leader(s): Martin Osis\, Arthur White Owl \nDate:  June 15\, 2024 \nTime: 10:00 Am – 3:00 PM  \nLocation:  Surprise Lake Camp \nDetails: The Surprise Lake Society is hosting a day at the camp. They are inviting fellow AMS members to come out and participate in some activities. There will be a mushroom foray in the morning around 10:00 am. \nAt 1:00 pm they invited some Indigenous elders out to the camp to do a blanket ceremony. This is a powerful and timely demonstration that shares the Indigenous perspective. It is open to all AMS members. \nOther details: Members-only event. Details regarding location will be emailed to members up to 1 week prior.  \nPlease read and familiarize yourself with the AMS Foray guidelines. \nPlease be advised that all events listed on our website are subject to change or cancellation due to various factors\, including but not limited to:\n\nUnfavourable Moisture/Fruiting Conditions\nMushroom growth is heavily dependent on environmental conditions such as moisture levels and temperature. If conditions are not conducive to mushroom fruiting\, events may be cancelled. \n\nUnforeseen Circumstances\nDespite our best efforts to plan and organize events\, unforeseen circumstances may arise that necessitate cancellation or postponement. \n\nLack of Volunteers\nOur events rely on volunteers to lead forays\, and if there is a shortage of volunteers\, we may need to cancel or reschedule events. Become a Foray Host! \n\nFinal event details\, including any changes or cancellations\, will be communicated via email to all members approximately one week prior to the scheduled event. We highly recommend checking your email regularly for updates.
URL:https://www.albertamushrooms.ca/event/surprise-lake-camp-foray-blanket-ceremony-june-15-2024/
ATTACH;FMTTYPE=image/jpeg:https://www.albertamushrooms.ca/wp-content/uploads/2024/06/Surprise-Lake-Camp.jpeg
END:VEVENT
END:VCALENDAR