BEGIN:VCALENDAR
VERSION:2.0
PRODID:-//Alberta Mycological Society - ECPv6.15.20//NONSGML v1.0//EN
CALSCALE:GREGORIAN
METHOD:PUBLISH
X-WR-CALNAME:Alberta Mycological Society
X-ORIGINAL-URL:https://www.albertamushrooms.ca
X-WR-CALDESC:Events for Alberta Mycological Society
REFRESH-INTERVAL;VALUE=DURATION:PT1H
X-Robots-Tag:noindex
X-PUBLISHED-TTL:PT1H
BEGIN:VTIMEZONE
TZID:America/Edmonton
BEGIN:DAYLIGHT
TZOFFSETFROM:-0700
TZOFFSETTO:-0600
TZNAME:MDT
DTSTART:20220313T090000
END:DAYLIGHT
BEGIN:STANDARD
TZOFFSETFROM:-0600
TZOFFSETTO:-0700
TZNAME:MST
DTSTART:20221106T080000
END:STANDARD
BEGIN:DAYLIGHT
TZOFFSETFROM:-0700
TZOFFSETTO:-0600
TZNAME:MDT
DTSTART:20230312T090000
END:DAYLIGHT
BEGIN:STANDARD
TZOFFSETFROM:-0600
TZOFFSETTO:-0700
TZNAME:MST
DTSTART:20231105T080000
END:STANDARD
BEGIN:DAYLIGHT
TZOFFSETFROM:-0700
TZOFFSETTO:-0600
TZNAME:MDT
DTSTART:20240310T090000
END:DAYLIGHT
BEGIN:STANDARD
TZOFFSETFROM:-0600
TZOFFSETTO:-0700
TZNAME:MST
DTSTART:20241103T080000
END:STANDARD
END:VTIMEZONE
BEGIN:VEVENT
DTSTART;TZID=America/Edmonton:20231011T180000
DTEND;TZID=America/Edmonton:20231011T193000
DTSTAMP:20260423T122646
CREATED:20231005T004206Z
LAST-MODIFIED:20231005T011354Z
UID:30830-1697047200-1697052600@www.albertamushrooms.ca
SUMMARY:NAMA Culinary Arts Event
DESCRIPTION:Join NAMA Culinary Arts Committee resident chefs Spike Mikulski\, Robert Courteau\, Jess Starwood and Gordon Walker as they share their favorite recipes\, tips on foraging for edible mushrooms and answer your questions! Chef Spike Milulski will share a new video presentation on foraging and cooking and you will also be welcome to contribute your own experience and thoughts to this casual open-forum meet-and-greet. \nWednesday\, October 11\, 2023 @ 18:00 – 19:30 Mountain Daylight Time (GMT-6) \nNote: the event photo states the event time in CST or Central Standard Time – Alberta time is 1 hour earlier. \nOrganizer\nNorth American Mycological Association \nFor more information and to register\, click here
URL:https://www.albertamushrooms.ca/event/nama-culinary-arts-event/
CATEGORIES:Members-Only Events
ATTACH;FMTTYPE=image/png:https://www.albertamushrooms.ca/wp-content/uploads/2023/10/48252c4c-9af5-4168-b6ae-8e45b2920274.png
END:VEVENT
END:VCALENDAR